BEGIN:VCALENDAR
VERSION:2.0
PRODID:SchoolNow
CALSCALE:GREGORIAN
BEGIN:VEVENT
UID:3d546684-6a3c-11ef-8084-0a58a9feac02
DTSTAMP:20250905T214927Z
SUMMARY:[CANCELLED] CDD Board Meeting - Sept. 2025
LOCATION:Holiday Inn Express & Suites Orlando South-Davenport\, located at
  4050 Hotel Drive\, Davenport\, FL 33897
URL;VALUE=URI:https://www.citycentercdd.org/calendar/6517841/cdd-board-meet
 ing-sept-2025
DTSTART:20250909T170000Z
DTEND:20250909T180000Z
END:VEVENT
END:VCALENDAR
