BEGIN:VCALENDAR
VERSION:2.0
PRODID:SchoolNow
CALSCALE:GREGORIAN
BEGIN:VEVENT
UID:f05f41dc-6a3b-11ef-aaea-0a58a9feac02
DTSTAMP:20250204T181538Z
SUMMARY:[CANCELLED] CDD Board Meeting - Feb. 2025
LOCATION:Holiday Inn Express & Suites Orlando South-Davenport\, located at
  4050 Hotel Drive\, Davenport\, FL 33897
URL;VALUE=URI:https://www.citycentercdd.org/calendar/6517834/cdd-board-meet
 ing-feb-2025
DTSTART:20250211T180000Z
DTEND:20250211T190000Z
END:VEVENT
END:VCALENDAR
