BEGIN:VCALENDAR
VERSION:2.0
PRODID:SchoolNow
CALSCALE:GREGORIAN
BEGIN:VEVENT
UID:e7d0c194-6a3b-11ef-aaf1-0a58a9feac02
DTSTAMP:20250109T202239Z
SUMMARY:[CANCELLED] CDD Board Meeting - Jan. 2025
LOCATION:Holiday Inn Express & Suites Orlando South-Davenport\, located at
  4050 Hotel Drive\, Davenport\, FL 33897
URL;VALUE=URI:https://www.citycentercdd.org/calendar/6517833/cdd-board-meet
 ing-jan-2025
DTSTART:20250114T180000Z
DTEND:20250114T190000Z
END:VEVENT
END:VCALENDAR
