BEGIN:VCALENDAR
VERSION:2.0
PRODID:SchoolNow
CALSCALE:GREGORIAN
BEGIN:VEVENT
UID:dc33bad0-6a3b-11ef-ad6a-0a58a9feac02
DTSTAMP:20241204T065058Z
SUMMARY:[CANCELLED] CDD Board Meeting - Dec. 2024
LOCATION:Holiday Inn Express & Suites Orlando South-Davenport\, located at
  4050 Hotel Drive\, Davenport\, FL 33897
URL;VALUE=URI:https://www.citycentercdd.org/calendar/6517832/cdd-board-meet
 ing-dec-2024
DTSTART:20241210T180000Z
DTEND:20241210T190000Z
END:VEVENT
END:VCALENDAR
