BEGIN:VCALENDAR
VERSION:2.0
PRODID:SchoolNow
CALSCALE:GREGORIAN
BEGIN:VEVENT
UID:d363c968-6a3b-11ef-9482-0a58a9feac02
DTSTAMP:20241111T151520Z
SUMMARY:CDD Board Meeting - Nov. 2024
LOCATION:Holiday Inn Express & Suites Orlando South-Davenport\, located at
  4050 Hotel Drive\, Davenport\, FL 33897
URL;VALUE=URI:https://www.citycentercdd.org/calendar/6517831/cdd-board-meet
 ing-nov-2024
DTSTART:20241112T180000Z
DTEND:20241112T190000Z
ATTACH;FILENAME=CC 2024-11-12 Agenda Package (revised 11-11).pdf;FMTTYPE=ap
 plication/pdf:https://campussuite-storage.s3.amazonaws.com/prod/1558784/41
 2b1d66-a7dc-11e9-aec4-127b6eacda64/2877852/7244195a-a03f-11ef-a7fd-0a58a9f
 eac02/file/CC 2024-11-12 Agenda Package (revised 11-11).pdf
ATTACH;FILENAME=CC 2024-11-12 Landowner Election Package.pdf;FMTTYPE=applic
 ation/pdf:https://campussuite-storage.s3.amazonaws.com/prod/1558784/412b1d
 66-a7dc-11e9-aec4-127b6eacda64/2876970/46c02f3a-9de2-11ef-ab9a-02d73475e6b
 b/file/CC 2024-11-12 Landowner Election Package.pdf
END:VEVENT
END:VCALENDAR
