BEGIN:VCALENDAR
VERSION:2.0
PRODID:SchoolNow
CALSCALE:GREGORIAN
BEGIN:VEVENT
UID:c9edb376-6a3b-11ef-b708-0a58a9feac02
DTSTAMP:20241001T123010Z
SUMMARY:[CANCELLED] CDD Board Meeting - Oct. 2024
LOCATION:Holiday Inn Express & Suites Orlando South-Davenport\, located at
  4050 Hotel Drive\, Davenport\, FL 33897
URL;VALUE=URI:https://www.citycentercdd.org/calendar/6517830/cdd-board-meet
 ing-oct-2024
DTSTART:20241008T170000Z
DTEND:20241008T180000Z
END:VEVENT
END:VCALENDAR
