BEGIN:VCALENDAR
VERSION:2.0
PRODID:SchoolNow
CALSCALE:GREGORIAN
BEGIN:VEVENT
UID:931344c8-599d-11ef-8c67-0e4962c6abb9
DTSTAMP:20240823T230211Z
SUMMARY:Continued CDD Board Meeting - Aug. 2024
LOCATION:Holiday Inn Express & Suites Orlando South-Davenport\, located at
  4050 Hotel Drive\, Davenport\, FL 33897
URL;VALUE=URI:https://www.citycentercdd.org/calendar/6394188/cdd-board-meet
 ing-aug-2024-clone
DTSTART:20240827T170000Z
DTEND:20240827T180000Z
ATTACH;FILENAME=CC 2024-08-27 Continued Meeting Agenda Package (revised 08-
 23).pdf;FMTTYPE=application/pdf:https://campussuite-storage.s3.amazonaws.c
 om/prod/1558784/412b1d66-a7dc-11e9-aec4-127b6eacda64/2836996/a93aa12a-61a3
 -11ef-b6a4-0affcc96cba9/file/CC 2024-08-27 Continued Meeting Agenda Packag
 e (revised 08-23).pdf
END:VEVENT
END:VCALENDAR
