BEGIN:VCALENDAR
VERSION:2.0
PRODID:SchoolNow
CALSCALE:GREGORIAN
BEGIN:VEVENT
UID:b4b702f4-3635-11ee-b143-0abc6598b2e1
DTSTAMP:20240903T210103Z
SUMMARY:[CANCELLED] CDD Board Meeting - Sept. 2024
LOCATION:Holiday Inn Express & Suites Orlando South-Davenport\, located at
  4050 Hotel Drive\, Davenport\, FL 33897
URL;VALUE=URI:https://www.citycentercdd.org/calendar/4557920/cdd-board-meet
 ing-sept-2024
DTSTART:20240910T170000Z
DTEND:20240910T180000Z
END:VEVENT
END:VCALENDAR
