BEGIN:VCALENDAR
VERSION:2.0
PRODID:SchoolNow
CALSCALE:GREGORIAN
BEGIN:VEVENT
UID:aa86f8b6-3635-11ee-ba66-0ea31f41eb0d
DTSTAMP:20240813T175735Z
SUMMARY:CDD Board Meeting - Aug. 2024 [CONTINUED TO AUGUST 27]
LOCATION:Holiday Inn Express & Suites Orlando South-Davenport\, located at
  4050 Hotel Drive\, Davenport\, FL 33897
URL;VALUE=URI:https://www.citycentercdd.org/calendar/4557919/cdd-board-meet
 ing-aug-2024
DTSTART:20240813T170000Z
DTEND:20240813T180000Z
ATTACH;FILENAME=CC 2024-08-13 Agenda Package (1).pdf;FMTTYPE=application/pd
 f:https://campussuite-storage.s3.amazonaws.com/prod/1558784/412b1d66-a7dc-
 11e9-aec4-127b6eacda64/2828259/3d8d8408-5747-11ef-9769-029a4de103df/file/C
 C 2024-08-13 Agenda Package (1).pdf
END:VEVENT
END:VCALENDAR
