BEGIN:VCALENDAR
VERSION:2.0
PRODID:SchoolNow
CALSCALE:GREGORIAN
BEGIN:VEVENT
UID:9cf25cb8-3635-11ee-aa96-0a58a9feac02
DTSTAMP:20240708T231029Z
SUMMARY:[CANCELLED] CDD Board Meeting - Jul. 2024
LOCATION:Holiday Inn Express & Suites Orlando South-Davenport\, located at
  4050 Hotel Drive\, Davenport\, FL 33897
URL;VALUE=URI:https://www.citycentercdd.org/calendar/4557918/cdd-board-meet
 ing-jul-2024
DTSTART:20240709T170000Z
DTEND:20240709T180000Z
END:VEVENT
END:VCALENDAR
