BEGIN:VCALENDAR
VERSION:2.0
PRODID:SchoolNow
CALSCALE:GREGORIAN
BEGIN:VEVENT
UID:7c31fa60-3635-11ee-a0b0-0a58a9feac02
DTSTAMP:20240604T140930Z
SUMMARY:[CANCELLED] CDD Board Meeting - Jun. 2024
LOCATION:Holiday Inn Express & Suites Orlando South-Davenport\, located at
  4050 Hotel Drive\, Davenport\, FL 33897
URL;VALUE=URI:https://www.citycentercdd.org/calendar/4557917/cdd-board-meet
 ing-jun-2024
DTSTART:20240611T170000Z
DTEND:20240611T180000Z
END:VEVENT
END:VCALENDAR
