BEGIN:VCALENDAR
VERSION:2.0
PRODID:SchoolNow
CALSCALE:GREGORIAN
BEGIN:VEVENT
UID:70633d5c-3635-11ee-98e0-0a58a9feac02
DTSTAMP:20240506T213953Z
SUMMARY:[CANCELLED] CDD Board Meeting - May 2024
LOCATION:Holiday Inn Express & Suites Orlando South-Davenport\, located at
  4050 Hotel Drive\, Davenport\, FL 33897
URL;VALUE=URI:https://www.citycentercdd.org/calendar/4557916/cdd-board-meet
 ing-may-2024
DTSTART:20240514T170000Z
DTEND:20240514T180000Z
END:VEVENT
END:VCALENDAR
