BEGIN:VCALENDAR
VERSION:2.0
PRODID:SchoolNow
CALSCALE:GREGORIAN
BEGIN:VEVENT
UID:64c93a1e-3635-11ee-aafd-0a58a9feac02
DTSTAMP:20240402T183908Z
SUMMARY:CDD Board Meeting - Apr. 2024
LOCATION:Holiday Inn Express & Suites Orlando South-Davenport\, located at
  4050 Hotel Drive\, Davenport\, FL 33897
URL;VALUE=URI:https://www.citycentercdd.org/calendar/4557915/cdd-board-meet
 ing-apr-2024
DTSTART:20240409T170000Z
DTEND:20240409T180000Z
ATTACH;FILENAME=CC 2024-04-09 Agenda Package.pdf;FMTTYPE=application/pdf:ht
 tps://campussuite-storage.s3.amazonaws.com/prod/1558784/412b1d66-a7dc-11e9
 -aec4-127b6eacda64/2766095/2bcb80e6-f11f-11ee-8598-0a58a9feac02/file/CC 20
 24-04-09 Agenda Package.pdf
END:VEVENT
END:VCALENDAR
