BEGIN:VCALENDAR
VERSION:2.0
PRODID:SchoolNow
CALSCALE:GREGORIAN
BEGIN:VEVENT
UID:57b8f6ca-3635-11ee-a455-0ab8c3d11233
DTSTAMP:20240305T143152Z
SUMMARY:[CANCELLED] CDD Board Meeting - Mar. 2024
LOCATION:Holiday Inn Express & Suites Orlando South-Davenport\, located at
  4050 Hotel Drive\, Davenport\, FL 33897
URL;VALUE=URI:https://www.citycentercdd.org/calendar/4557914/cdd-board-meet
 ing-mar-2024
DTSTART:20240312T170000Z
DTEND:20240312T180000Z
END:VEVENT
END:VCALENDAR
