BEGIN:VCALENDAR
VERSION:2.0
PRODID:SchoolNow
CALSCALE:GREGORIAN
BEGIN:VEVENT
UID:4c5d492a-3635-11ee-83cd-027b4a6ebcdd
DTSTAMP:20240209T220009Z
SUMMARY:CDD Board Meeting - Feb. 2024
LOCATION:Holiday Inn Express & Suites Orlando South-Davenport\, located at
  4050 Hotel Drive\, Davenport\, FL 33897
URL;VALUE=URI:https://www.citycentercdd.org/calendar/4557913/cdd-board-meet
 ing-feb-2024
DTSTART:20240213T180000Z
DTEND:20240213T190000Z
ATTACH;FILENAME=CC 2024-02-13 Agenda Package (revised 02-09).pdf;FMTTYPE=ap
 plication/pdf:https://campussuite-storage.s3.amazonaws.com/prod/1558784/41
 2b1d66-a7dc-11e9-aec4-127b6eacda64/2739993/45b42740-c796-11ee-a229-0272d16
 cf32d/file/CC 2024-02-13 Agenda Package (revised 02-09).pdf
END:VEVENT
END:VCALENDAR
