BEGIN:VCALENDAR
VERSION:2.0
PRODID:SchoolNow
CALSCALE:GREGORIAN
BEGIN:VEVENT
UID:3e841ae0-3635-11ee-a46c-0abc6598b2e1
DTSTAMP:20240102T214151Z
SUMMARY:CDD Board Meeting - Jan. 2024
LOCATION:Holiday Inn Express & Suites Orlando South-Davenport\, located at
  4050 Hotel Drive\, Davenport\, FL 33897
URL;VALUE=URI:https://www.citycentercdd.org/calendar/4557912/cdd-board-meet
 ing-jan-2024
DTSTART:20240109T180000Z
DTEND:20240109T190000Z
ATTACH;FILENAME=CC 2024-01-09 Agenda Package.pdf;FMTTYPE=application/pdf:ht
 tps://campussuite-storage.s3.amazonaws.com/prod/1558784/412b1d66-a7dc-11e9
 -aec4-127b6eacda64/2720158/b818489a-a9b7-11ee-b7a6-0a58a9feac02/file/CC 20
 24-01-09 Agenda Package.pdf
END:VEVENT
END:VCALENDAR
