BEGIN:VCALENDAR
VERSION:2.0
PRODID:SchoolNow
CALSCALE:GREGORIAN
BEGIN:VEVENT
UID:2dd8b836-3635-11ee-b78a-0a58a9feac02
DTSTAMP:20231205T230106Z
SUMMARY:CDD Board Meeting - Dec. 2023
LOCATION:Holiday Inn Express & Suites Orlando South-Davenport\, located at
  4050 Hotel Drive\, Davenport\, FL 33897
URL;VALUE=URI:https://www.citycentercdd.org/calendar/4557911/cdd-board-meet
 ing-dec-2023
DTSTART:20231212T180000Z
DTEND:20231212T190000Z
ATTACH;FILENAME=CC 2023-12-12 Agenda Package.pdf;FMTTYPE=application/pdf:ht
 tps://campussuite-storage.s3.amazonaws.com/prod/1558784/412b1d66-a7dc-11e9
 -aec4-127b6eacda64/2709018/fed00c98-93c1-11ee-a01e-02ce5988eb71/file/CC 20
 23-12-12 Agenda Package.pdf
END:VEVENT
END:VCALENDAR
