BEGIN:VCALENDAR
VERSION:2.0
PRODID:SchoolNow
CALSCALE:GREGORIAN
BEGIN:VEVENT
UID:1c8265aa-3635-11ee-a284-0a7d73d971d5
DTSTAMP:20231107T223529Z
SUMMARY:CDD Board Meeting - Nov. 2023
LOCATION:Holiday Inn Express & Suites Orlando South-Davenport\, located at
  4050 Hotel Drive\, Davenport\, FL 33897
URL;VALUE=URI:https://www.citycentercdd.org/calendar/4557910/cdd-board-meet
 ing-nov-2023
DTSTART:20231114T180000Z
DTEND:20231114T190000Z
ATTACH;FILENAME=CC 2023-11-14 Agenda Package.pdf;FMTTYPE=application/pdf:ht
 tps://campussuite-storage.s3.amazonaws.com/prod/1558784/412b1d66-a7dc-11e9
 -aec4-127b6eacda64/2697060/ef63a89c-7dbd-11ee-bf90-0a58a9feac02/file/CC 20
 23-11-14 Agenda Package.pdf
END:VEVENT
END:VCALENDAR
