BEGIN:VCALENDAR
VERSION:2.0
PRODID:SchoolNow
CALSCALE:GREGORIAN
BEGIN:VEVENT
UID:0e7fff4e-3635-11ee-8f27-0a7d73d971d5
DTSTAMP:20231004T132105Z
SUMMARY:[CANCELLED] CDD Board Meeting - Oct. 2023
LOCATION:Holiday Inn Express & Suites Orlando South-Davenport\, located at
  4050 Hotel Drive\, Davenport\, FL 33897
URL;VALUE=URI:https://www.citycentercdd.org/calendar/4557909/cdd-board-meet
 ing-oct-2023
DTSTART:20231010T170000Z
DTEND:20231010T180000Z
END:VEVENT
END:VCALENDAR
