BEGIN:VCALENDAR
VERSION:2.0
PRODID:SchoolNow
CALSCALE:GREGORIAN
BEGIN:VEVENT
UID:f93431b0-9840-11ed-803f-0af0f2d0864b
DTSTAMP:20230907T213200Z
SUMMARY:[CANCELLED] CDD Board Meeting - Sept. 2023
LOCATION:Ramada\, 43824 Highway 27\, Davenport\, Florida 33837
URL;VALUE=URI:https://www.citycentercdd.org/calendar/3675083/cdd-board-meet
 ing-sept-2023
DTSTART:20230912T170000Z
DTEND:20230912T180000Z
END:VEVENT
END:VCALENDAR
