BEGIN:VCALENDAR
VERSION:2.0
PRODID:SchoolNow
CALSCALE:GREGORIAN
BEGIN:VEVENT
UID:dfc28b14-9840-11ed-86cf-0af0f2d0864b
DTSTAMP:20230801T212319Z
SUMMARY:CDD Board Meeting - Aug. 2023
LOCATION:Ramada\, 43824 Highway 27\, Davenport\, Florida 33837
URL;VALUE=URI:https://www.citycentercdd.org/calendar/3675082/cdd-board-meet
 ing-aug-2023
DTSTART:20230808T170000Z
DTEND:20230808T180000Z
ATTACH;FILENAME=CC 2023-08-08 Agenda Package.pdf;FMTTYPE=application/pdf:ht
 tps://campussuite-storage.s3.amazonaws.com/prod/1558784/412b1d66-a7dc-11e9
 -aec4-127b6eacda64/2637163/8d29cd2c-30b1-11ee-8859-0a58a9feac02/file/CC 20
 23-08-08 Agenda Package.pdf
END:VEVENT
END:VCALENDAR
