BEGIN:VCALENDAR
VERSION:2.0
PRODID:SchoolNow
CALSCALE:GREGORIAN
BEGIN:VEVENT
UID:c461bd9a-9840-11ed-b42c-0af0f2d0864b
DTSTAMP:20230703T173302Z
SUMMARY:(CANCELLED) CDD Board Meeting - July 2023
LOCATION:Ramada\, 43824 Highway 27\, Davenport\, Florida 33837
URL;VALUE=URI:https://www.citycentercdd.org/calendar/3675081/cdd-board-meet
 ing-july-2023
DTSTART:20230711T170000Z
DTEND:20230711T180000Z
END:VEVENT
END:VCALENDAR
