BEGIN:VCALENDAR
VERSION:2.0
PRODID:SchoolNow
CALSCALE:GREGORIAN
BEGIN:VEVENT
UID:ac30ca36-9840-11ed-a3f5-0af0f2d0864b
DTSTAMP:20230606T163236Z
SUMMARY:CDD Board Meeting - June 2023 (CANCELLED)
LOCATION:Ramada\, 43824 Highway 27\, Davenport\, Florida 33837
URL;VALUE=URI:https://www.citycentercdd.org/calendar/3675080/cdd-board-meet
 ing-june-2023
DTSTART:20230613T170000Z
DTEND:20230613T180000Z
END:VEVENT
END:VCALENDAR
