BEGIN:VCALENDAR
VERSION:2.0
PRODID:SchoolNow
CALSCALE:GREGORIAN
BEGIN:VEVENT
UID:933caee6-9840-11ed-a5ab-0af0f2d0864b
DTSTAMP:20230502T205501Z
SUMMARY:CDD Board Meeting - May 2023
LOCATION:Ramada\, 43824 Highway 27\, Davenport\, Florida 33837
URL;VALUE=URI:https://www.citycentercdd.org/calendar/3675079/cdd-board-meet
 ing-may-2023
DTSTART:20230509T170000Z
DTEND:20230509T180000Z
ATTACH;FILENAME=CC 2023-05-09 Agenda Package.pdf;FMTTYPE=application/pdf:ht
 tps://campussuite-storage.s3.amazonaws.com/prod/1558784/412b1d66-a7dc-11e9
 -aec4-127b6eacda64/2587090/9517773c-e92b-11ed-9fbe-0a50e2dcb0f1/file/CC 20
 23-05-09 Agenda Package.pdf
END:VEVENT
END:VCALENDAR
